View In:
ArcGIS JavaScript
ArcGIS Online Map Viewer
ArcGIS Earth
ArcGIS Pro
Service Description: This is a mosaic of 34 scanned and georeferenced plat maps of the City of Rochester, NY, from 1900. Citation: Plat book of the City of Rochester, New York. Philadelphia: J.M. Lathrop & Co., 1900.
Map Name: Layers
Legend
All Layers and Tables
Dynamic Legend
Dynamic All Layers
Layers:
Description: This is a mosaic of 34 scanned and georeferenced plat maps of the City of Rochester, NY, from 1900. Citation: Plat book of the City of Rochester, New York. Philadelphia: J.M. Lathrop & Co., 1900.
Copyright Text: JM Lathrop, 1900, City of Rochester, NY, 2014
Spatial Reference:
102100
(3857)
LatestVCSWkid(0)
Single Fused Map Cache: true
Tile Info:
- Height: 256.0
- Width: 256.0
- DPI: 96.0
-
Levels of Detail: 24
-
Level ID: 1
[ Start Tile, End Tile ]
- Resolution: 78271.5169639999
- Scale: 2.95828763795777E8
-
Level ID: 2
[ Start Tile, End Tile ]
- Resolution: 39135.7584820001
- Scale: 1.47914381897889E8
-
Level ID: 3
[ Start Tile, End Tile ]
- Resolution: 19567.8792409999
- Scale: 7.3957190948944E7
-
Level ID: 4
[ Start Tile, End Tile ]
- Resolution: 9783.93962049996
- Scale: 3.6978595474472E7
-
Level ID: 5
[ Start Tile, End Tile ]
- Resolution: 4891.96981024998
- Scale: 1.8489297737236E7
- Format: MIXED
- Compression Quality: 75.0
- Origin: X: -2.0037508342787E7
Y: 2.0037508342787E7
- Spatial Reference: 102100
(3857)
LatestVCSWkid(0)
Storage Info:
- Storage Format: esriMapCacheStorageModeCompactV2
- Packet Size: 128
Initial Extent:
XMin: -8642326.714521619
YMin: 5333403.520074753
XMax: -8639434.846951501
YMax: 5341289.27349283
Spatial Reference: 102100
(3857)
LatestVCSWkid(0)
Full Extent:
XMin: -8652679.648059268
YMin: 5326898.284061959
XMax: -8632970.16820566
YMax: 5346398.439900312
Spatial Reference: 102100
(3857)
LatestVCSWkid(0)
Units: esriMeters
Supported Image Format Types: PNG32,PNG24,PNG,JPG,DIB,TIFF,EMF,PS,PDF,GIF,SVG,SVGZ,BMP
Document Info:
Title: ROC_HistoricPlatMaps_1900
Author:
Comments: This is a mosaic of 34 scanned and georeferenced plat maps of the City of Rochester, NY, from 1900. Citation: Plat book of the City of Rochester, New York. Philadelphia: J.M. Lathrop & Co., 1900.
Subject: City of Rochester, NY historic plat map, 1900
Category:
Keywords: ROC
AntialiasingMode: Fast
TextAntialiasingMode: Force
Supports Dynamic Layers: true
Resampling: false
MaxRecordCount: 1000
MaxImageHeight: 4096
MaxImageWidth: 4096
Supported Query Formats: JSON, geoJSON, PBF
Supports Query Data Elements: true
Min Scale: 4622324.434309
Max Scale: 1128.497176
Supports Datum Transformation: true
Child Resources:
Info
Dynamic Layer
Supported Operations:
Export Map
Identify
QueryLegends
QueryDomains
Find
Return Updates