View In:
ArcGIS JavaScript
ArcGIS Online Map Viewer
ArcGIS Earth
ArcGIS Pro
Service Description: This is a mosaic of 45 scanned and georeferenced plat maps of the City of Rochester, NY, from 1910. Citation: Atlas of the City of Rochester, Monroe County, New York G. M. Hopkins Co. 1910
Map Name: Layers
Legend
All Layers and Tables
Dynamic Legend
Dynamic All Layers
Layers:
Description: This is a mosaic of 45 scanned and georeferenced plat maps of the City of Rochester, NY, from 1910. Citation: Atlas of the City of Rochester, Monroe County, New York G. M. Hopkins Co. 1910
Copyright Text: GM Hopkins, 1910, City of Rochester, NY, 2014
Spatial Reference:
102100
(3857)
LatestVCSWkid(0)
Single Fused Map Cache: true
Tile Info:
- Height: 256.0
- Width: 256.0
- DPI: 96.0
-
Levels of Detail: 24
-
Level ID: 1
[ Start Tile, End Tile ]
- Resolution: 78271.5169639999
- Scale: 2.95828763795777E8
-
Level ID: 2
[ Start Tile, End Tile ]
- Resolution: 39135.7584820001
- Scale: 1.47914381897889E8
-
Level ID: 3
[ Start Tile, End Tile ]
- Resolution: 19567.8792409999
- Scale: 7.3957190948944E7
-
Level ID: 4
[ Start Tile, End Tile ]
- Resolution: 9783.93962049996
- Scale: 3.6978595474472E7
-
Level ID: 5
[ Start Tile, End Tile ]
- Resolution: 4891.96981024998
- Scale: 1.8489297737236E7
- Format: PNG32
- Compression Quality: 0.0
- Origin: X: -2.0037508342787E7
Y: 2.0037508342787E7
- Spatial Reference: 102100
(3857)
LatestVCSWkid(0)
Storage Info:
- Storage Format: esriMapCacheStorageModeCompactV2
- Packet Size: 128
Initial Extent:
XMin: -8643397.189923527
YMin: 5322747.503589028
XMax: -8634738.58867425
YMax: 5346358.403030892
Spatial Reference: 102100
(3857)
LatestVCSWkid(0)
Full Extent:
XMin: -8647109.568347933
YMin: 5329347.434721889
XMax: -8630966.485796878
YMax: 5342637.095014528
Spatial Reference: 102100
(3857)
LatestVCSWkid(0)
Units: esriMeters
Supported Image Format Types: PNG32,PNG24,PNG,JPG,DIB,TIFF,EMF,PS,PDF,GIF,SVG,SVGZ,BMP
Document Info:
Title: ROC_HistoricPlatMaps_1910
Author:
Comments: This is a mosaic of 45 scanned and georeferenced plat maps of the City of Rochester, NY, from 1910. Citation: Atlas of the City of Rochester, Monroe County, New York G. M. Hopkins Co. 1910
Subject: City of Rochester, NY historic plat map, 1910
Category:
Keywords: ROC
AntialiasingMode: Fast
TextAntialiasingMode: Force
Supports Dynamic Layers: true
Resampling: false
MaxRecordCount: 1000
MaxImageHeight: 4096
MaxImageWidth: 4096
Supported Query Formats: JSON, geoJSON, PBF
Supports Query Data Elements: true
Min Scale: 4622324.434309
Max Scale: 1128.497176
Supports Datum Transformation: true
Child Resources:
Info
Dynamic Layer
Supported Operations:
Export Map
Identify
QueryLegends
QueryDomains
Find
Return Updates